BEGIN:VCALENDAR
PRODID:-//eluceo/ical//2.0/EN
VERSION:2.0
CALSCALE:GREGORIAN
BEGIN:VEVENT
UID:a68603a9bcfc60c072bcfa2ad718dc82
DTSTAMP:20260423T143337Z
SUMMARY:Under Fire: with Gil Hoffman
DESCRIPTION:Jewish Federation of Greater Orange County New York\nCalendar\n
 https://jewishorangeny.org/calendar/under-fire-with-gil-hoffman\n\nUnder F
 ire:\n\nAn Insider&#39\;s Look at the Fight for Israel in the Media\n\nSun
 day\, May 19th 4PM (Doors open at 3:45pm\n\nPlease RSVP to Monroe Temple 8
 45-783-2626 or office@monroetemple.org\n\nYou are invited to join in the c
 ommunity-wide discussion with Gil Hoffman\, Executive Director of HonestRe
 porting. Its mission is to promote a healthy democracy which requires a we
 ll-informed cizentry. HonestReporting works to ensure truth\, integrity\, 
 and fairness\, and to combat ideological bias in journal...
DTSTART;TZID=America/New_York:20240519T160000
DTEND;TZID=America/New_York:20240519T173000
END:VEVENT
END:VCALENDAR
