BEGIN:VCALENDAR
PRODID:-//eluceo/ical//2.0/EN
VERSION:2.0
CALSCALE:GREGORIAN
BEGIN:VEVENT
UID:c6f7dac4e9493d2a21e61ca32d09eaac
DTSTAMP:20260425T164859Z
SUMMARY:Trip to Forestburgh Playhouse - Microgrant event!
DESCRIPTION:Jewish Federation of Greater Orange County New York\nCalendar\n
 https://jewishorangeny.org/calendar/trip-to-forestburgh-playhouse\n\nSpons
 ored by Congregation Beth Hillel of Walden - watch for details!
DTSTART;TZID=America/New_York:20230820T000000
DTEND;TZID=America/New_York:20230820T235959
END:VEVENT
END:VCALENDAR
