BEGIN:VCALENDAR
PRODID:-//eluceo/ical//2.0/EN
VERSION:2.0
CALSCALE:GREGORIAN
BEGIN:VEVENT
UID:fc20d49bc1bc1a27a823feb18bf39e66
DTSTAMP:20260425T004254Z
SUMMARY:Registration deadline for Jewish Civil Rights Tour '24
DESCRIPTION:Jewish Federation of Greater Orange County New York\nCalendar\n
 https://jewishorangeny.org/calendar/registration-deadline-for-jewish-civil
 -rights-tour-24\n\nContact Temple Beth Jacob RIGHT AWAY to reserve your sp
 ot!!
DTSTART;TZID=America/New_York:20231229T000000
DTEND;TZID=America/New_York:20231229T235959
END:VEVENT
END:VCALENDAR
