BEGIN:VCALENDAR
PRODID:-//eluceo/ical//2.0/EN
VERSION:2.0
CALSCALE:GREGORIAN
BEGIN:VEVENT
UID:dbfbe4e2b4ec25c72da5ff35ede354a5
DTSTAMP:20260425T195547Z
SUMMARY:PJ Play  @Temple Sinai-Middletown
DESCRIPTION:Jewish Federation of Greater Orange County New York\nCalendar\n
 https://jewishorangeny.org/calendar/pj-play-temple-sinai-middletown\n\nPJ 
 Play~Middletown!\n\nCome join us for the last PJ Play \n\nbefore the summe
 r & bring a friend!\n\nNote: Time Change - 10:15 am\n\n\n\nStay after PJ P
 lay and enjoy the Lag \n\nB&#39\;Omer BBQ \n\n11am @ Temple Sinai
DTSTART;TZID=America/New_York:20230507T101500
DTEND;TZID=America/New_York:20230507T111500
END:VEVENT
END:VCALENDAR
