BEGIN:VCALENDAR
PRODID:-//eluceo/ical//2.0/EN
VERSION:2.0
CALSCALE:GREGORIAN
BEGIN:VEVENT
UID:5f8664ad33bcc71ddf4159277c252d4d
DTSTAMP:20260419T121712Z
SUMMARY:Office closes at 3pm for Sukkot
DESCRIPTION:Jewish Federation of Greater Orange County New York\nCalendar\n
 https://jewishorangeny.org/calendar/office-closes-at-3pm-for-sukkot24\n\nC
 hag sameach!
DTSTART;TZID=America/New_York:20241016T000000
DTEND;TZID=America/New_York:20241016T235959
END:VEVENT
END:VCALENDAR
