BEGIN:VCALENDAR
PRODID:-//eluceo/ical//2.0/EN
VERSION:2.0
CALSCALE:GREGORIAN
BEGIN:VEVENT
UID:e10143a3d86cbe4d82f1a09fc1031ca2
DTSTAMP:20260425T161804Z
SUMMARY:Office closes at 3pm for Shavuot
DESCRIPTION:Jewish Federation of Greater Orange County New York\nCalendar\n
 https://jewishorangeny.org/calendar/office-closes-at-3pm-for-shavuot\n\nSh
 avuot samech!
DTSTART;TZID=America/New_York:20230525T000000
DTEND;TZID=America/New_York:20230525T235959
END:VEVENT
END:VCALENDAR
