BEGIN:VCALENDAR
PRODID:-//eluceo/ical//2.0/EN
VERSION:2.0
CALSCALE:GREGORIAN
BEGIN:VEVENT
UID:2b8d74fd708fecba3c881f0ea89a8ac2
DTSTAMP:20260422T135520Z
SUMMARY:Office closes 3pm for Rosh Hashanah
DESCRIPTION:Jewish Federation of Greater Orange County New York\nCalendar\n
 https://jewishorangeny.org/calendar/office-closes-3pm-for-rosh-hashanah\n\
 nChag sameach!
DTSTART;TZID=America/New_York:20241002T150000
DTEND;TZID=America/New_York:20241002T170000
END:VEVENT
END:VCALENDAR
