BEGIN:VCALENDAR
PRODID:-//eluceo/ical//2.0/EN
VERSION:2.0
CALSCALE:GREGORIAN
BEGIN:VEVENT
UID:b9861944a28e5f3c7a5cfaf99f9105c8
DTSTAMP:20260422T013240Z
SUMMARY:Office closed
DESCRIPTION:Jewish Federation of Greater Orange County New York\nCalendar\n
 https://jewishorangeny.org/calendar/office-closed-sukkot24\n\nChag sameach
 !
DTSTART;TZID=America/New_York:20241017T000000
DTEND;TZID=America/New_York:20241018T235959
END:VEVENT
END:VCALENDAR
