BEGIN:VCALENDAR
PRODID:-//eluceo/ical//2.0/EN
VERSION:2.0
CALSCALE:GREGORIAN
BEGIN:VEVENT
UID:bfea49b5ab44c60746836d53ca1bd6f3
DTSTAMP:20260422T103759Z
SUMMARY:Office closed for Passover
DESCRIPTION:Jewish Federation of Greater Orange County New York\nCalendar\n
 https://jewishorangeny.org/calendar/office-closed-for-passover-23-2\n\nHap
 py Passover!
DTSTART;TZID=America/New_York:20240429T000000
DTEND;TZID=America/New_York:20240430T235959
END:VEVENT
END:VCALENDAR
