BEGIN:VCALENDAR
PRODID:-//eluceo/ical//2.0/EN
VERSION:2.0
CALSCALE:GREGORIAN
BEGIN:VEVENT
UID:b2f906fc581c200b6269e974e279a8d9
DTSTAMP:20260422T103904Z
SUMMARY:Office closed for Passover
DESCRIPTION:Jewish Federation of Greater Orange County New York\nCalendar\n
 https://jewishorangeny.org/calendar/office-closed-for-passover-23\n\nHappy
  Passover!
DTSTART;TZID=America/New_York:20240423T000000
DTEND;TZID=America/New_York:20240424T235959
END:VEVENT
END:VCALENDAR
