BEGIN:VCALENDAR
PRODID:-//eluceo/ical//2.0/EN
VERSION:2.0
CALSCALE:GREGORIAN
BEGIN:VEVENT
UID:8073f1fa4150c91dbd4d5fcd89c9ce12
DTSTAMP:20260425T155925Z
SUMMARY:Office closed for Passover
DESCRIPTION:Jewish Federation of Greater Orange County New York\nCalendar\n
 https://jewishorangeny.org/calendar/office-closed-for-passover-2\n\nChag s
 ameach!
DTSTART;TZID=America/New_York:20230412T000000
DTEND;TZID=America/New_York:20230413T235959
END:VEVENT
END:VCALENDAR
