BEGIN:VCALENDAR
PRODID:-//eluceo/ical//2.0/EN
VERSION:2.0
CALSCALE:GREGORIAN
BEGIN:VEVENT
UID:0f3ed16f7125a1ac86eb485868506d6b
DTSTAMP:20260419T235053Z
SUMMARY:Office closed at 3pm for Yom Kippur
DESCRIPTION:Jewish Federation of Greater Orange County New York\nCalendar\n
 https://jewishorangeny.org/calendar/office-closed-at-3pm-for-yom-kippur\n\
 nMay you have an easy fast
DTSTART;TZID=America/New_York:20241011T000000
DTEND;TZID=America/New_York:20241011T235959
END:VEVENT
END:VCALENDAR
