BEGIN:VCALENDAR
PRODID:-//eluceo/ical//2.0/EN
VERSION:2.0
CALSCALE:GREGORIAN
BEGIN:VEVENT
UID:ea5778b47a8d7fd7ae9f15a6db599e85
DTSTAMP:20260420T183248Z
SUMMARY:Kedem Wine - Passover fundraiser
DESCRIPTION:Jewish Federation of Greater Orange County New York\nCalendar\n
 https://jewishorangeny.org/calendar/kedem-wine-passover-fundraiser\n\n
DTSTART;TZID=America/New_York:20240215T000000
DTEND;TZID=America/New_York:20240404T235959
END:VEVENT
END:VCALENDAR
