BEGIN:VCALENDAR
PRODID:-//eluceo/ical//2.0/EN
VERSION:2.0
CALSCALE:GREGORIAN
BEGIN:VEVENT
UID:e8be4094f0c7b152f7fa215ec2543bc4
DTSTAMP:20260420T091306Z
SUMMARY:JBC Author Series Shira Dicker
DESCRIPTION:Jewish Federation of Greater Orange County New York\nCalendar\n
 https://jewishorangeny.org/calendar/jbc-author-series-shira-dicker\n\n"Lol
 ita At Leonard&#39\;s of Great Neck"\nand Other Stories from the Before Ti
 mes\n\nJoin us for a meet and greet with author\n\nShira Dicker\nSunday\, 
 March 2 | 2PM\n\nIn Collaboration with Temple Beth Shalom\, Florida\n\nReg
 ister Today!\n\n 
DTSTART;TZID=America/New_York:20250302T140000
DTEND;TZID=America/New_York:20250302T160000
END:VEVENT
END:VCALENDAR
