BEGIN:VCALENDAR
PRODID:-//eluceo/ical//2.0/EN
VERSION:2.0
CALSCALE:GREGORIAN
BEGIN:VEVENT
UID:a31e8e60258dc285af3f362fa133f800
DTSTAMP:20260419T201513Z
SUMMARY:Havdallah & Healing
DESCRIPTION:Jewish Federation of Greater Orange County New York\nCalendar\n
 https://jewishorangeny.org/calendar/havdallah-healing\n\n
DTSTART;TZID=America/New_York:20240907T000000
DTEND;TZID=America/New_York:20240907T235959
END:VEVENT
END:VCALENDAR
