BEGIN:VCALENDAR
PRODID:-//eluceo/ical//2.0/EN
VERSION:2.0
CALSCALE:GREGORIAN
BEGIN:VEVENT
UID:365710bd9fc7ca0c7024bdc18cbafec0
DTSTAMP:20260422T173352Z
SUMMARY:Hadassah -Yom HaShoah 2024: One Woman Remembers\, Featuring Toby Le
 vy
DESCRIPTION:Jewish Federation of Greater Orange County New York\nCalendar\n
 https://jewishorangeny.org/calendar/hadassah-yom-hashoah-2024-one-woman-re
 members-featuring-toby-levy\n\nYom Hashoah 2024: One Woman Remembers\nMond
 ay\, May 6th at 1PM via Zoom\n\n\nToby Levy was 8 years old when the Jews 
 in her community were told to live in the ghetto. instead\, her family wen
 t into hiding. Toby will be sharing her and her family&#39\;s story of hid
 ing and survival. So few survivors are still left\, so don&#39\;t miss the
  opportunity to hear this first-hand account from a Holocaust survivor.\n\
 nJOIN US:  One Woman Remembers
DTSTART;TZID=America/New_York:20240506T130000
DTEND;TZID=America/New_York:20240506T140000
END:VEVENT
END:VCALENDAR
