BEGIN:VCALENDAR
PRODID:-//eluceo/ical//2.0/EN
VERSION:2.0
CALSCALE:GREGORIAN
BEGIN:VEVENT
UID:9c9cdad7aaccbb02ae88135024c5d87e
DTSTAMP:20260421T002208Z
SUMMARY:Federation Annual Meeting '24
DESCRIPTION:Jewish Federation of Greater Orange County New York\nCalendar\n
 https://jewishorangeny.org/calendar/federation-annual-meeting-24\n\nThe Je
 wish Federation of Greater Orange County&#39\;s \n\n48th Annual Meeting\n\
 nSunday\, June 9th:10 am at\nTemple Sinai\, 75 Highland Ave\, Middletown\,
  NY\n\nRegistration Required: CLICK HERE!
DTSTART;TZID=America/New_York:20240609T100000
DTEND;TZID=America/New_York:20240609T120000
END:VEVENT
END:VCALENDAR
