BEGIN:VCALENDAR
PRODID:-//eluceo/ical//2.0/EN
VERSION:2.0
CALSCALE:GREGORIAN
BEGIN:VEVENT
UID:0ec9f952cf3d653be1d9b589d3f535a7
DTSTAMP:20260420T213328Z
SUMMARY:Faces of October Seventh
DESCRIPTION:Jewish Federation of Greater Orange County New York\nCalendar\n
 https://jewishorangeny.org/calendar/faces-of-october-seventh\n\nFaces of O
 ctober Seventh\n\nWednesday\, May 8th at 7PM\n\n\nJoin us to hear the pers
 onal story of Eden Gefner\, a 28 year old from Kibbutz Re&#39\;im\, the Ki
 bbutz that hosted the Nova Music Festival. Eden is an undergrad student in
  business administration and psychology and lives in Tel Aviv for school.\
 n\nOn October 7th\, Eden and her boyfriend were visiting her parents at ho
 me\, on Kibbutz Re&#39\;im. When the terrorists took over the kibbutz and 
 broke into their home\, she and her family hid in the attic...
DTSTART;TZID=America/New_York:20240508T190000
DTEND;TZID=America/New_York:20240508T203000
END:VEVENT
END:VCALENDAR
