BEGIN:VCALENDAR
PRODID:-//eluceo/ical//2.0/EN
VERSION:2.0
CALSCALE:GREGORIAN
BEGIN:VEVENT
UID:c60c98c4ea8b1ea0d0ff4e9420d7dcd4
DTSTAMP:20260420T222338Z
SUMMARY:Daylight Saving Time starts!
DESCRIPTION:Jewish Federation of Greater Orange County New York\nCalendar\n
 https://jewishorangeny.org/calendar/daylight-saving-time-starts\n\nSpring 
 ahead!
DTSTART;TZID=America/New_York:20230312T000000
DTEND;TZID=America/New_York:20230312T235959
END:VEVENT
END:VCALENDAR
