BEGIN:VCALENDAR
PRODID:-//eluceo/ical//2.0/EN
VERSION:2.0
CALSCALE:GREGORIAN
BEGIN:VEVENT
UID:aea8a5f7420e6970bb6ae450a9bc7b07
DTSTAMP:20260420T100609Z
SUMMARY:Community Relations Council meeting
DESCRIPTION:Jewish Federation of Greater Orange County New York\nCalendar\n
 https://jewishorangeny.org/calendar/community-relations-council-meeting-23
 \n\nContact Wendy to learn more
DTSTART;TZID=America/New_York:20231004T190000
DTEND;TZID=America/New_York:20231004T200000
END:VEVENT
END:VCALENDAR
