BEGIN:VCALENDAR
PRODID:-//eluceo/ical//2.0/EN
VERSION:2.0
CALSCALE:GREGORIAN
BEGIN:VEVENT
UID:2a6b2ada9d5fda0f8575c9eccf76c7cd
DTSTAMP:20260422T153422Z
SUMMARY:Combatting Hate & Antisemitism
DESCRIPTION:Jewish Federation of Greater Orange County New York\nCalendar\n
 https://jewishorangeny.org/calendar/combatting-hate-antisemitism\n\nLearn 
 the history of Judaism as it relates to modern antisemitism and other form
 s of hate.
DTSTART;TZID=America/New_York:20231211T180000
DTEND;TZID=America/New_York:20231211T193000
END:VEVENT
END:VCALENDAR
