BEGIN:VCALENDAR
PRODID:-//eluceo/ical//2.0/EN
VERSION:2.0
CALSCALE:GREGORIAN
BEGIN:VEVENT
UID:66ed6c5fd7675b882cf195f4dce781da
DTSTAMP:20260420T143417Z
SUMMARY:Choose Your Own Adventure Shabbat!
DESCRIPTION:Jewish Federation of Greater Orange County New York\nCalendar\n
 https://jewishorangeny.org/calendar/choose-your-own-adventure-shabbat\n\n
DTSTART;TZID=America/New_York:20231027T150000
DTEND;TZID=America/New_York:20231027T180000
END:VEVENT
END:VCALENDAR
